BEGIN:VCALENDAR
VERSION:2.0
PRODID:-// - ECPv6.15.20//NONSGML v1.0//EN
CALSCALE:GREGORIAN
METHOD:PUBLISH
X-ORIGINAL-URL:https://the-rcs.org
X-WR-CALDESC:Events for 
REFRESH-INTERVAL;VALUE=DURATION:PT1H
X-Robots-Tag:noindex
X-PUBLISHED-TTL:PT1H
BEGIN:VTIMEZONE
TZID:UTC
BEGIN:STANDARD
TZOFFSETFROM:+0000
TZOFFSETTO:+0000
TZNAME:UTC
DTSTART:20180101T000000
END:STANDARD
END:VTIMEZONE
BEGIN:VEVENT
DTSTART;TZID=UTC:20190901T130000
DTEND;TZID=UTC:20190901T170000
DTSTAMP:20260422T011358
CREATED:20190911T022620Z
LAST-MODIFIED:20190911T022620Z
UID:64-1567342800-1567357200@the-rcs.org
SUMMARY:Potluck at School on Sept 1st\, 2019
DESCRIPTION:Bring a dish to share !
URL:https://the-rcs.org/event/potluck-at-school-on-sept-1st-2019/
LOCATION:School\, 6100 Patterson Avenue\, Richmond Virginia 23226\, Richmond\, VA\, United States
END:VEVENT
END:VCALENDAR