BEGIN:VCALENDAR
VERSION:2.0
PRODID:-// - ECPv6.15.20//NONSGML v1.0//EN
CALSCALE:GREGORIAN
METHOD:PUBLISH
X-ORIGINAL-URL:https://the-rcs.org
X-WR-CALDESC:Events for 
REFRESH-INTERVAL;VALUE=DURATION:PT1H
X-Robots-Tag:noindex
X-PUBLISHED-TTL:PT1H
BEGIN:VTIMEZONE
TZID:UTC
BEGIN:STANDARD
TZOFFSETFROM:+0000
TZOFFSETTO:+0000
TZNAME:UTC
DTSTART:20190101T000000
END:STANDARD
END:VTIMEZONE
BEGIN:VEVENT
DTSTART;TZID=UTC:20200405T140000
DTEND;TZID=UTC:20200405T160000
DTSTAMP:20260421T051013
CREATED:20200320T020236Z
LAST-MODIFIED:20200320T020236Z
UID:476-1586095200-1586102400@the-rcs.org
SUMMARY:School Closed
DESCRIPTION:
URL:https://the-rcs.org/event/school-closed-4/
LOCATION:VA
END:VEVENT
BEGIN:VEVENT
DTSTART;TZID=UTC:20200412T140000
DTEND;TZID=UTC:20200412T160000
DTSTAMP:20260421T051013
CREATED:20200320T020353Z
LAST-MODIFIED:20200320T020737Z
UID:478-1586700000-1586707200@the-rcs.org
SUMMARY:School closed due to Easter Sunday
DESCRIPTION:
URL:https://the-rcs.org/event/school-closed-5/
LOCATION:VA
END:VEVENT
END:VCALENDAR